BEGIN:VCALENDAR
VERSION:2.0
PRODID:-//mrdog.nl - ECPv6.15.18//NONSGML v1.0//EN
CALSCALE:GREGORIAN
METHOD:PUBLISH
X-WR-CALNAME:mrdog.nl
X-ORIGINAL-URL:https://mrdog.nl
X-WR-CALDESC:Evenementen voor mrdog.nl
REFRESH-INTERVAL;VALUE=DURATION:PT1H
X-Robots-Tag:noindex
X-PUBLISHED-TTL:PT1H
BEGIN:VTIMEZONE
TZID:Europe/Paris
BEGIN:DAYLIGHT
TZOFFSETFROM:+0100
TZOFFSETTO:+0200
TZNAME:CEST
DTSTART:20250330T010000
END:DAYLIGHT
BEGIN:STANDARD
TZOFFSETFROM:+0200
TZOFFSETTO:+0100
TZNAME:CET
DTSTART:20251026T010000
END:STANDARD
BEGIN:DAYLIGHT
TZOFFSETFROM:+0100
TZOFFSETTO:+0200
TZNAME:CEST
DTSTART:20260329T010000
END:DAYLIGHT
BEGIN:STANDARD
TZOFFSETFROM:+0200
TZOFFSETTO:+0100
TZNAME:CET
DTSTART:20261025T010000
END:STANDARD
BEGIN:DAYLIGHT
TZOFFSETFROM:+0100
TZOFFSETTO:+0200
TZNAME:CEST
DTSTART:20270328T010000
END:DAYLIGHT
BEGIN:STANDARD
TZOFFSETFROM:+0200
TZOFFSETTO:+0100
TZNAME:CET
DTSTART:20271031T010000
END:STANDARD
END:VTIMEZONE
BEGIN:VEVENT
DTSTART;VALUE=DATE:20260425
DTEND;VALUE=DATE:20260426
DTSTAMP:20260425T145729
CREATED:20260228T132338Z
LAST-MODIFIED:20260228T132338Z
UID:3850-1777075200-1777161599@mrdog.nl
SUMMARY:Bijscholing
DESCRIPTION:Ledenvergadering instructeursvereniging O&O en\nlezing ‘Jachtgedrag’ door Nicky Gootjes\, in Woudenberg.\nGeen opvang deze dag.
URL:https://mrdog.nl/event/bijscholing/
END:VEVENT
BEGIN:VEVENT
DTSTART;VALUE=DATE:20260427
DTEND;VALUE=DATE:20260428
DTSTAMP:20260425T145729
CREATED:20260423T113506Z
LAST-MODIFIED:20260423T113506Z
UID:4049-1777248000-1777334399@mrdog.nl
SUMMARY:Koningsdag
DESCRIPTION:De normale wandelingen vervallen.Er is wel een ingelaste wandeling in de ochtend\, waar u uw hond voor kunt opgeven.
URL:https://mrdog.nl/event/koningsdag/
END:VEVENT
BEGIN:VEVENT
DTSTART;VALUE=DATE:20260514
DTEND;VALUE=DATE:20260515
DTSTAMP:20260425T145729
CREATED:20260228T132518Z
LAST-MODIFIED:20260331T195614Z
UID:3852-1778716800-1778803199@mrdog.nl
SUMMARY:Hemelvaartsdag
DESCRIPTION:De reguliere wandelingen vervallen\, er is wel een ochtendwandeling (dauwtrappen!) waar u uw hond voor kunt aanmelden.
URL:https://mrdog.nl/event/hemelvaartsdag/
END:VEVENT
BEGIN:VEVENT
DTSTART;VALUE=DATE:20260525
DTEND;VALUE=DATE:20260526
DTSTAMP:20260425T145729
CREATED:20260228T132647Z
LAST-MODIFIED:20260228T132647Z
UID:3854-1779667200-1779753599@mrdog.nl
SUMMARY:Tweede Pinksterdag
DESCRIPTION:De reguliere wandelingen vervallen\, er is wel een ochtendwandeling waar u uw hond voor kunt aanmelden.
URL:https://mrdog.nl/event/tweede-pinksterdag/
END:VEVENT
BEGIN:VEVENT
DTSTART;TZID=Europe/Paris:20260718T000000
DTEND;TZID=Europe/Paris:20260809T000000
DTSTAMP:20260425T145729
CREATED:20260228T132911Z
LAST-MODIFIED:20260228T132911Z
UID:3856-1784332800-1786233600@mrdog.nl
SUMMARY:Zomervakantie Mister Dog
DESCRIPTION:Wegens vakantie gesloten.\nMijn laatste werkdag is vrijdag 17 juli en op maandag 10 augustus gaan we uitgerust weer aan de wandel.
URL:https://mrdog.nl/event/zomervakantie-mister-dog/
END:VEVENT
END:VCALENDAR